BEGIN:VCALENDAR
VERSION:2.0
PRODID:-//Hampshire &amp; Isle of Wight Fire &amp; Rescue Service - ECPv6.15.16//NONSGML v1.0//EN
CALSCALE:GREGORIAN
METHOD:PUBLISH
X-WR-CALNAME:Hampshire &amp; Isle of Wight Fire &amp; Rescue Service
X-ORIGINAL-URL:https://www.hantsfire.gov.uk
X-WR-CALDESC:Events for Hampshire &amp; Isle of Wight Fire &amp; Rescue Service
REFRESH-INTERVAL;VALUE=DURATION:PT1H
X-Robots-Tag:noindex
X-PUBLISHED-TTL:PT1H
BEGIN:VTIMEZONE
TZID:Europe/London
BEGIN:DAYLIGHT
TZOFFSETFROM:+0000
TZOFFSETTO:+0100
TZNAME:BST
DTSTART:20220327T010000
END:DAYLIGHT
BEGIN:STANDARD
TZOFFSETFROM:+0100
TZOFFSETTO:+0000
TZNAME:GMT
DTSTART:20221030T010000
END:STANDARD
BEGIN:DAYLIGHT
TZOFFSETFROM:+0000
TZOFFSETTO:+0100
TZNAME:BST
DTSTART:20230326T010000
END:DAYLIGHT
BEGIN:STANDARD
TZOFFSETFROM:+0100
TZOFFSETTO:+0000
TZNAME:GMT
DTSTART:20231029T010000
END:STANDARD
BEGIN:DAYLIGHT
TZOFFSETFROM:+0000
TZOFFSETTO:+0100
TZNAME:BST
DTSTART:20240331T010000
END:DAYLIGHT
BEGIN:STANDARD
TZOFFSETFROM:+0100
TZOFFSETTO:+0000
TZNAME:GMT
DTSTART:20241027T010000
END:STANDARD
BEGIN:DAYLIGHT
TZOFFSETFROM:+0000
TZOFFSETTO:+0100
TZNAME:BST
DTSTART:20250330T010000
END:DAYLIGHT
BEGIN:STANDARD
TZOFFSETFROM:+0100
TZOFFSETTO:+0000
TZNAME:GMT
DTSTART:20251026T010000
END:STANDARD
END:VTIMEZONE
BEGIN:VEVENT
DTSTART;VALUE=DATE:20240927
DTEND;VALUE=DATE:20240929
DTSTAMP:20260423T202021
CREATED:20240918T101049Z
LAST-MODIFIED:20240918T101211Z
UID:21289-1727395200-1727567999@www.hantsfire.gov.uk
SUMMARY:UKRO Festival of Rescue
DESCRIPTION:The United Kingdom Rescue Organisation (UKRO) “Festival of Rescue” will see expert teams of firefighters from 28 UK fire services and three international teams come to Portsmouth and Eastleigh to test their skills across a variety of challenging scenarios. Teams will compete to be the best at vehicle extrication\, rope rescue from height\, water rescue\, and trauma care. There will also be a fire cadets’ challenge and dog demonstration. \nMembers of the public visiting Gunwharf Quays and Portsmouth Historic Dockyard or walking along the River Itchen* (near Eastleigh Rugby Club) will be able to watch all the action\, learning more about the skills and equipment used and cheering on the teams taking part. \n  \n*Please note \n\nThe extrication event at Gunwharf Quays will involve releasing people who are acting as casualties from cars. This can be noisy and it could be unsettling for people who have experienced a road traffic incident or lost a loved one as a result of one.*\nThe Water Rescue event on the River Itchen is on Friday 27 only.
URL:https://www.hantsfire.gov.uk/event/ukro-festival-of-rescue/
LOCATION:Hampshire
ATTACH;FMTTYPE=image/jpeg:https://www.hantsfire.gov.uk/wp-content/uploads/2024/09/UKRO-Landing-Page-Block-1-1-1.jpg
END:VEVENT
BEGIN:VEVENT
DTSTART;TZID=Europe/London:20240914T100000
DTEND;TZID=Europe/London:20240914T160000
DTSTAMP:20260423T202021
CREATED:20240823T131352Z
LAST-MODIFIED:20240823T131352Z
UID:20937-1726308000-1726329600@www.hantsfire.gov.uk
SUMMARY:Cosham Fire Station open day
DESCRIPTION:Come visit the brand new Cosham Fire Station! \nThe state-of-the-art site is opening its doors to the public for the first time. \nCome along and see the demonstrations\, meet your local crews and learn about the newest HIWFRS station we share with our police colleagues \nDon’t miss out!
URL:https://www.hantsfire.gov.uk/event/cosham-fire-station-open-day-3/
LOCATION:Cosham Fire Station\, Northern Road\, Cosham\, Hampshire\, United Kingdom
ATTACH;FMTTYPE=image/jpeg:https://www.hantsfire.gov.uk/wp-content/uploads/2024/08/Cosham-23-e1728295227347.jpg
END:VEVENT
BEGIN:VEVENT
DTSTART;TZID=Europe/London:20240908T100000
DTEND;TZID=Europe/London:20240908T160000
DTSTAMP:20260423T202021
CREATED:20240830T150504Z
LAST-MODIFIED:20240830T150504Z
UID:20957-1725789600-1725811200@www.hantsfire.gov.uk
SUMMARY:Southsea Fire Station open day
DESCRIPTION:Come and join us on our Open Day and see what happens at your local fire station\, with food\, activities\, raffles & demonstrations\, there’s something for everyone!
URL:https://www.hantsfire.gov.uk/event/southsea-fire-station-open-day-2/
LOCATION:Southsea Fire Station\, Somers Road\, Southsea\, Hampshire\, PO5 4LU\, United Kingdom
ATTACH;FMTTYPE=image/jpeg:https://www.hantsfire.gov.uk/wp-content/uploads/2024/08/Southsea2.jpg
END:VEVENT
BEGIN:VEVENT
DTSTART;TZID=Europe/London:20240908T100000
DTEND;TZID=Europe/London:20240908T150000
DTSTAMP:20260423T202021
CREATED:20240827T122008Z
LAST-MODIFIED:20240828T082509Z
UID:20944-1725789600-1725807600@www.hantsfire.gov.uk
SUMMARY:Botley Fire Station open day
DESCRIPTION:Botley firefighters will be opening their appliance bay doors to welcome you to take a look inside. \nCome and meet the local crew\, throw sponges at them(!)\, ride on the merry-go-round\, have your face painted\, take part in the raffle and enjoy the barbecue. \nYou can also dress up as a firefighter and have a go on the hoses. \nDon’t miss out on the fun for all the family on Sunday 8th September from 10am until 3pm.
URL:https://www.hantsfire.gov.uk/event/botley-fire-station-open-day/
LOCATION:Botley Fire Station
ATTACH;FMTTYPE=image/jpeg:https://www.hantsfire.gov.uk/wp-content/uploads/2021/02/64861160_10156940098350932_6331878759016169472_o.jpg
END:VEVENT
BEGIN:VEVENT
DTSTART;TZID=Europe/London:20240907T110000
DTEND;TZID=Europe/London:20240907T160000
DTSTAMP:20260423T202021
CREATED:20240813T112808Z
LAST-MODIFIED:20240813T112808Z
UID:20911-1725706800-1725724800@www.hantsfire.gov.uk
SUMMARY:Basingstoke Fire Station open day
DESCRIPTION:Check out Basingstoke’s open day and learn all about the fire service. Take a look at some of our vehicles and the equipment we use to help save lives across our area. \nDon’t miss out on an exciting day of fun for all the family with lots to see and do!
URL:https://www.hantsfire.gov.uk/event/basingstoke-fire-station-open-day-2/
LOCATION:Basingstoke Fire Station\, West Ham Close\, Basingstoke\, Hampshire\, RG22 6PH\, United Kingdom
ATTACH;FMTTYPE=image/jpeg:https://www.hantsfire.gov.uk/wp-content/uploads/2024/08/basing.jpg
END:VEVENT
BEGIN:VEVENT
DTSTART;TZID=Europe/London:20240831T110000
DTEND;TZID=Europe/London:20240831T150000
DTSTAMP:20260423T202021
CREATED:20240813T111921Z
LAST-MODIFIED:20240813T112853Z
UID:20908-1725102000-1725116400@www.hantsfire.gov.uk
SUMMARY:Fareham Fire Station open day
DESCRIPTION:Fareham firefighters will be opening their appliance bay doors to welcome you to take a look inside. \nCome and meet the local crew\, find out about their vehicles and equipment\, and watch the demonstrations whilst enjoying the refreshments on offer. \nDon’t miss out on the fun for all the family from 11am-3pm on Saturday 31st August.
URL:https://www.hantsfire.gov.uk/event/fareham-fire-station-open-day/
LOCATION:Fareham Fire Station\, Station Approach\, Fareham\, Hampshire\, PO16 0HZ\, United Kingdom
ATTACH;FMTTYPE=image/jpeg:https://www.hantsfire.gov.uk/wp-content/uploads/2024/08/Fareham.jpg
END:VEVENT
BEGIN:VEVENT
DTSTART;TZID=Europe/London:20240831T100000
DTEND;TZID=Europe/London:20240831T160000
DTSTAMP:20260423T202021
CREATED:20240815T161555Z
LAST-MODIFIED:20240815T161616Z
UID:20918-1725098400-1725120000@www.hantsfire.gov.uk
SUMMARY:Romsey Fire Station open day
DESCRIPTION:Romsey firefighters will be opening their appliance bay doors to welcome you to take a look inside. \nCome and meet the local crew\, find out about their vehicles and equipment\, and watch the demonstrations whilst enjoying the refreshments on offer. \nDon’t miss out on the fun for all the family from 10am-4pm on Saturday 31st August.
URL:https://www.hantsfire.gov.uk/event/romsey-fire-station-open-day-2/
LOCATION:Romsey Fire Station\, Alma Road\, Romsey\, Hampshire\, SO51 8EB\, United Kingdom
ATTACH;FMTTYPE=image/jpeg:https://www.hantsfire.gov.uk/wp-content/uploads/2024/07/romsey.jpg
END:VEVENT
BEGIN:VEVENT
DTSTART;TZID=Europe/London:20240831T100000
DTEND;TZID=Europe/London:20240831T140000
DTSTAMP:20260423T202021
CREATED:20240815T161752Z
LAST-MODIFIED:20240815T161812Z
UID:20920-1725098400-1725112800@www.hantsfire.gov.uk
SUMMARY:Emsworth Fire Station open day
DESCRIPTION:Emsworth firefighters will be opening their appliance bay doors to welcome you to take a look inside. \nCome and meet the local crew\, find out about their vehicles and equipment\, and watch the demonstrations whilst enjoying the refreshments on offer. \nDon’t miss out on the fun for all the family from 10am-2pm on Saturday 31st August.
URL:https://www.hantsfire.gov.uk/event/emsworth-fire-station-open-day/
LOCATION:Emsworth Fire Station
ATTACH;FMTTYPE=image/jpeg:https://www.hantsfire.gov.uk/wp-content/uploads/2021/02/64861160_10156940098350932_6331878759016169472_o.jpg
END:VEVENT
BEGIN:VEVENT
DTSTART;TZID=Europe/London:20240817T100000
DTEND;TZID=Europe/London:20240817T160000
DTSTAMP:20260423T202021
CREATED:20240805T153330Z
LAST-MODIFIED:20240805T153330Z
UID:20850-1723888800-1723910400@www.hantsfire.gov.uk
SUMMARY:Redbridge Fire Station Open Day
DESCRIPTION:Redbridge firefighters will be opening their station doors to the public on Saturday 17th August. \nDon’t miss your chance to see your local crew perform firefighting demonstrations and meet the HIWFRS fire dogs! \nMeet our police and ambulance crews as well as specialist HIWFRS teams including the animal rescue unit. \nThere will also refreshments including a barbecue and cake stand. \nGet involved in the facepainting\, games and raffle. \nThe Redbridge open day is bound to be lots of fun for all the family\, don’t miss out!
URL:https://www.hantsfire.gov.uk/event/redbridge-fire-station-open-day/
LOCATION:Redbridge Fire Station\, Redbridge Hill\, Southampton\, Hampshire\, SO16 4LZ\, United Kingdom
ATTACH;FMTTYPE=image/jpeg:https://www.hantsfire.gov.uk/wp-content/uploads/2024/08/Redbridge.jpg
END:VEVENT
BEGIN:VEVENT
DTSTART;TZID=Europe/London:20240803T100000
DTEND;TZID=Europe/London:20240803T160000
DTSTAMP:20260423T202021
CREATED:20240726T113440Z
LAST-MODIFIED:20240726T113440Z
UID:20809-1722679200-1722700800@www.hantsfire.gov.uk
SUMMARY:Southsea Fire Station Charity Car Wash
DESCRIPTION:Come get your car cleaned by firefighters at Southsea Fire Station and help raise money for The Fire Fighters Charity.
URL:https://www.hantsfire.gov.uk/event/southsea-fire-station-charity-car-wash/
LOCATION:Southsea Fire Station\, Somers Road\, Southsea\, Hampshire\, PO5 4LU\, United Kingdom
ATTACH;FMTTYPE=image/jpeg:https://www.hantsfire.gov.uk/wp-content/uploads/2023/07/Car-Wash.jpg
END:VEVENT
BEGIN:VEVENT
DTSTART;TZID=Europe/London:20240727T100000
DTEND;TZID=Europe/London:20240727T160000
DTSTAMP:20260423T202021
CREATED:20240705T084601Z
LAST-MODIFIED:20240705T084601Z
UID:20650-1722074400-1722096000@www.hantsfire.gov.uk
SUMMARY:Romsey Car Wash
DESCRIPTION:Romsey firefighters are running a charity car wash on Saturday 27 July. Funds raised on the day will go to the Firefighters Charity\, which gives firefighters and their families\, support\, care and advice when they need it most.
URL:https://www.hantsfire.gov.uk/event/romsey-car-wash/
LOCATION:Romsey Fire Station\, Alma Road\, Romsey\, Hampshire\, SO51 8EB\, United Kingdom
ATTACH;FMTTYPE=image/jpeg:https://www.hantsfire.gov.uk/wp-content/uploads/2024/07/romsey.jpg
END:VEVENT
BEGIN:VEVENT
DTSTART;TZID=Europe/London:20240720T100000
DTEND;TZID=Europe/London:20240720T160000
DTSTAMP:20260423T202021
CREATED:20240307T103936Z
LAST-MODIFIED:20240307T103936Z
UID:19822-1721469600-1721491200@www.hantsfire.gov.uk
SUMMARY:Sutton Scotney Fire Station car wash
DESCRIPTION:Come along and have your car washed by your local firefighters!\n\nHelp us raise money for The Firefighters Charity. A really important charity to firefighters and their families\, giving support\, care and advice when we need it most.\n\n10am until 4pm\, just donate to have your car washed!\n\nSee you there!
URL:https://www.hantsfire.gov.uk/event/sutton-scotney-fire-station-car-wash/
LOCATION:Sutton Scotney Fire Station\, Oxford Road\, Sutton Scotney\, Hampshire\, SO21 3JH
ATTACH;FMTTYPE=image/jpeg:https://www.hantsfire.gov.uk/wp-content/uploads/2023/07/Car-Wash.jpg
END:VEVENT
BEGIN:VEVENT
DTSTART;TZID=Europe/London:20240713T110000
DTEND;TZID=Europe/London:20240713T160000
DTSTAMP:20260423T202021
CREATED:20240509T140353Z
LAST-MODIFIED:20240509T140353Z
UID:20235-1720868400-1720886400@www.hantsfire.gov.uk
SUMMARY:Tadley Fire Station Open Day
DESCRIPTION:Please join us to celebrate 50 years of Tadley Fire Station at our Station Open Day on the 13th July 2024 from 11am until 4pm.\n\n\n\nWe are looking to build a collection of photos to display on the day of Tadley Fire Station over the last 50 years. If anybody has any photos they would like to share\, please send them to – tadley.retained@hantsfire.gov.uk.
URL:https://www.hantsfire.gov.uk/event/tadley-fire-station-open-day/
LOCATION:Tadley Fire Station\, Franklin Avenue\, Tadley
ATTACH;FMTTYPE=image/jpeg:https://www.hantsfire.gov.uk/wp-content/uploads/2024/05/438092093_867899758698101_26217837479687877_n.jpg
END:VEVENT
BEGIN:VEVENT
DTSTART;TZID=Europe/London:20240713T094500
DTEND;TZID=Europe/London:20240713T170000
DTSTAMP:20260423T202021
CREATED:20240705T125634Z
LAST-MODIFIED:20240705T125634Z
UID:20655-1720863900-1720890000@www.hantsfire.gov.uk
SUMMARY:Charity Football Tournament
DESCRIPTION:Stoneham Lane Football Complex are hosting a football tournament involving 12 HIWFRS teams including a team from Southampton Airport Fire Service. \nThe event takes place on Saturday 13 July 2024 from 09:45 with representatives from event sponsors 3SFireCIC. \nEven if you aren’t participating in the event we encourage you to come down and watch the games. There is no ticket cost\, but donations can be made on the door. \nAttending events at AFC Stoneham Complex requires QR code registration. Each individual gaining access to the facility must register to get a Parklife QR code. Register here.​ \n\n\n\n\n\n\n\n\n\n\n\n\n\n\nMany thanks to 3SFire for sponsoring the event.
URL:https://www.hantsfire.gov.uk/event/charity-football-tournament/
LOCATION:Stoneham Lane Football Complex\, Stoneham Lane\, Eastleigh\, Hampshire\, SO16 2PA\, United Kingdom
ATTACH;FMTTYPE=image/jpeg:https://www.hantsfire.gov.uk/wp-content/uploads/2024/07/509A74EB-CD14-4E01-9CB7-8DE3544168E3.jpeg
END:VEVENT
BEGIN:VEVENT
DTSTART;TZID=Europe/London:20240707T100000
DTEND;TZID=Europe/London:20240707T160000
DTSTAMP:20260423T202021
CREATED:20240705T083457Z
LAST-MODIFIED:20240705T083648Z
UID:20646-1720346400-1720368000@www.hantsfire.gov.uk
SUMMARY:Cosham Car Wash
DESCRIPTION:Pop along to the Cosham charity car wash on Sunday 7 July. Just donate to have your car washed by firefighters. The event is raising funds for the Firefighters Charity and the Terry Farrell Firefighters Fund.
URL:https://www.hantsfire.gov.uk/event/cosham-car-wash/
LOCATION:Cosham Fire Station\, Northern Road\, Cosham\, Hampshire\, United Kingdom
ATTACH;FMTTYPE=image/jpeg:https://www.hantsfire.gov.uk/wp-content/uploads/2023/07/Car-Wash.jpg
END:VEVENT
BEGIN:VEVENT
DTSTART;TZID=Europe/London:20240706T093000
DTEND;TZID=Europe/London:20240706T170000
DTSTAMP:20260423T202021
CREATED:20240705T085457Z
LAST-MODIFIED:20240705T085457Z
UID:20653-1720258200-1720285200@www.hantsfire.gov.uk
SUMMARY:HMS Collingwood Open Day
DESCRIPTION:Hampshire and Isle of Wight Fire and Rescue Service will be at the HMS Collingwood Open Day. Come along and see us there. \nHMS Collingwood Open Day (mod.uk)
URL:https://www.hantsfire.gov.uk/event/hms-collingwood-open-day/
LOCATION:Hampshire
ATTACH;FMTTYPE=image/jpeg:https://www.hantsfire.gov.uk/wp-content/uploads/2023/10/IMG_8171.jpg
END:VEVENT
BEGIN:VEVENT
DTSTART;TZID=Europe/London:20240608T100000
DTEND;TZID=Europe/London:20240608T160000
DTSTAMP:20260423T202021
CREATED:20240529T161317Z
LAST-MODIFIED:20240603T141127Z
UID:20475-1717840800-1717862400@www.hantsfire.gov.uk
SUMMARY:Rushmoor Fire Station Car Wash
DESCRIPTION:Come along and have your car washed by your local firefighters!\n\nHelp us raise money for The Firefighters Charity. A really important charity to firefighters and their families\, giving support\, care and advice when we need it most.\n\n10am until 4pm\, just donate to have your car washed!\n\nSee you there!
URL:https://www.hantsfire.gov.uk/event/rushmoor-fire-station-car-wash/
LOCATION:Rushmoor Fire Station\, 8 Lynchford Road\, Farnborough\, Hampshire\, GU14 6BF\, United Kingdom
END:VEVENT
BEGIN:VEVENT
DTSTART;TZID=Europe/London:20240608T100000
DTEND;TZID=Europe/London:20240608T160000
DTSTAMP:20260423T202021
CREATED:20240529T161229Z
LAST-MODIFIED:20240603T113508Z
UID:20473-1717840800-1717862400@www.hantsfire.gov.uk
SUMMARY:Fareham Fire Station Car Wash
DESCRIPTION:Come along and have your car washed by your local firefighters!\n\nHelp us raise money for The Firefighters Charity. A really important charity to firefighters and their families\, giving support\, care and advice when we need it most.\n\n10am until 4pm\, just donate to have your car washed!\n\nSee you there!
URL:https://www.hantsfire.gov.uk/event/fareham-fire-station-car-wash/
LOCATION:Fareham Fire Station\, Station Approach\, Fareham\, Hampshire\, PO16 0HZ\, United Kingdom
END:VEVENT
BEGIN:VEVENT
DTSTART;TZID=Europe/London:20240525T100000
DTEND;TZID=Europe/London:20240525T160000
DTSTAMP:20260423T202021
CREATED:20240514T152505Z
LAST-MODIFIED:20240520T151134Z
UID:20376-1716631200-1716652800@www.hantsfire.gov.uk
SUMMARY:Emergency Services Day
DESCRIPTION:Fawley Parish Council are hosting the Emergency Services Day at Gang Warily Recreation Centre on Saturday 25th May from 10am-4pm. \nThe event was previously held at Beaulieu Motor Museum and Calshot Activity Centre but has become too big!\n\nAll the emergency services including on-call firefighters from Hardley will be coming together on a spectacular day. There will be vehicles\, demonstrations\, training drills\, activities to get involved in as well as catering and a ice cream truck in attendance.
URL:https://www.hantsfire.gov.uk/event/emergency-services-day/
LOCATION:Gang Warily Recreation Centre\, Fawley
ATTACH;FMTTYPE=image/jpeg:https://www.hantsfire.gov.uk/wp-content/uploads/2024/05/434090811_1132863534564425_2183964011113896635_n.jpg
END:VEVENT
BEGIN:VEVENT
DTSTART;TZID=Europe/London:20240511T100000
DTEND;TZID=Europe/London:20240511T160000
DTSTAMP:20260423T202021
CREATED:20240424T095811Z
LAST-MODIFIED:20240424T095811Z
UID:20161-1715421600-1715443200@www.hantsfire.gov.uk
SUMMARY:Hayling Island Fire Station open day
DESCRIPTION:Come and join us for fun packed day and see what happens at your local fire station! \nWith games\, refreshments and fire engines on display\, it’ll be a superb day out for all the family!
URL:https://www.hantsfire.gov.uk/event/hayling-island-fire-station-open-day/
LOCATION:Hayling Island Fire Station\, Elm Grove\, PO11 9ED
ATTACH;FMTTYPE=image/jpeg:https://www.hantsfire.gov.uk/wp-content/uploads/2021/02/64861160_10156940098350932_6331878759016169472_o.jpg
END:VEVENT
BEGIN:VEVENT
DTSTART;TZID=Europe/London:20240504T100000
DTEND;TZID=Europe/London:20240504T160000
DTSTAMP:20260423T202021
CREATED:20240424T094731Z
LAST-MODIFIED:20240424T094731Z
UID:20159-1714816800-1714838400@www.hantsfire.gov.uk
SUMMARY:Bordon Fire Station car wash
DESCRIPTION:Come along and have your car washed by your local firefighters!\n\nHelp us raise money for The Firefighters Charity. A really important charity to firefighters and their families\, giving support\, care and advice when we need it most.\n\n10am until 4pm\, just donate to have your car washed!\n\nSee you there!
URL:https://www.hantsfire.gov.uk/event/bordon-fire-station-car-wash/
LOCATION:Bordon Fire Station\, Conde Way\, Bordon\, GU35 0XF
ATTACH;FMTTYPE=image/jpeg:https://www.hantsfire.gov.uk/wp-content/uploads/2024/03/336804111_759589698807191_5412531038385621137_n.jpg
END:VEVENT
BEGIN:VEVENT
DTSTART;TZID=Europe/London:20240427T100000
DTEND;TZID=Europe/London:20240427T160000
DTSTAMP:20260423T202021
CREATED:20240305T151718Z
LAST-MODIFIED:20240305T151718Z
UID:19802-1714212000-1714233600@www.hantsfire.gov.uk
SUMMARY:Winchester Fire Station car wash
DESCRIPTION:Come along and have your car washed by your local firefighters!\n\nHelp us raise money for The Firefighters Charity. A really important charity to firefighters and their families\, giving support\, care and advice when we need it most.\n\n10am until 4pm\, just donate to have your car washed!\n\nSee you there!
URL:https://www.hantsfire.gov.uk/event/winchester-fire-station-car-wash/
LOCATION:Winchester Fire Station\, Easton Lane\, Winnall\, Winchester\, Hampshire\, SO23 0LF\, United Kingdom
ATTACH;FMTTYPE=image/jpeg:https://www.hantsfire.gov.uk/wp-content/uploads/2023/07/Car-Wash.jpg
END:VEVENT
BEGIN:VEVENT
DTSTART;TZID=Europe/London:20240427T090000
DTEND;TZID=Europe/London:20240427T150000
DTSTAMP:20260423T202021
CREATED:20240426T153820Z
LAST-MODIFIED:20240426T153820Z
UID:20175-1714208400-1714230000@www.hantsfire.gov.uk
SUMMARY:Ringwood Fire Station On-Call Firefighter Open Day
DESCRIPTION:Come along\, meet our crew and find out more about what it’s like to be an On-Call Firefighter here at Ringwood!​
URL:https://www.hantsfire.gov.uk/event/ringwood-fire-station-on-call-firefighter-open-day/
LOCATION:The Furlong Shopping Centre\, BH24 1AT
ATTACH;FMTTYPE=image/jpeg:https://www.hantsfire.gov.uk/wp-content/uploads/2024/04/GL972yvW4AA7EXa.jpg
END:VEVENT
BEGIN:VEVENT
DTSTART;VALUE=DATE:20240426
DTEND;VALUE=DATE:20240427
DTSTAMP:20260423T202021
CREATED:20240405T145239Z
LAST-MODIFIED:20240405T145430Z
UID:19996-1714089600-1714175999@www.hantsfire.gov.uk
SUMMARY:Fundraising stair climb
DESCRIPTION:Red Watch at Cosham fundraising stair climb at the Village Gym in Portsmouth on Friday the 26 April\, where they will be continuously climbing in full fire kit and breathing apparatus all day. \nThis event is in preparation for a larger event which will see the team head over to the USA and take part in theTruist Park Charity Stair Climb\, where they will climb up and down 110 floors\, representing how many storeys high the Twin Towers stood amongst the Manhattan skyline. \nThey are taking on the challenge to honour the fallen firefighters and victims of the 9/11 terror attacks\, whilst fundraising for the families left behind. Contributions to their fundraising can be made via just giving
URL:https://www.hantsfire.gov.uk/event/fundraising-stair-climb/
LOCATION:The Village Gym\, Portsmouth
ATTACH;FMTTYPE=image/jpeg:https://www.hantsfire.gov.uk/wp-content/uploads/2024/04/red-watch-cosham.jpg
END:VEVENT
BEGIN:VEVENT
DTSTART;TZID=Europe/London:20240420T100000
DTEND;TZID=Europe/London:20240420T160000
DTSTAMP:20260423T202021
CREATED:20240307T103840Z
LAST-MODIFIED:20240307T103840Z
UID:19820-1713607200-1713628800@www.hantsfire.gov.uk
SUMMARY:Hardley Fire Station car wash
DESCRIPTION:Come along and have your car washed by your local firefighters!\n\nHelp us raise money for The Firefighters Charity. A really important charity to firefighters and their families\, giving support\, care and advice when we need it most.\n\n10am until 4pm\, just donate to have your car washed!\n\nSee you there!
URL:https://www.hantsfire.gov.uk/event/hardley-fire-station-car-wash/
LOCATION:Hardley Fire Station\, Falconer Court\, Southampton\, Hampshire\, SO45 2PY\, United Kingdom
ATTACH;FMTTYPE=image/jpeg:https://www.hantsfire.gov.uk/wp-content/uploads/2023/07/Car-Wash.jpg
END:VEVENT
BEGIN:VEVENT
DTSTART;TZID=Europe/London:20240420T100000
DTEND;TZID=Europe/London:20240420T160000
DTSTAMP:20260423T202021
CREATED:20240307T103729Z
LAST-MODIFIED:20240321T153507Z
UID:19817-1713607200-1713628800@www.hantsfire.gov.uk
SUMMARY:Lyndhurst Fire Station car wash
DESCRIPTION:Come along and have your car washed by your local firefighters!\n\nHelp us raise money for The Firefighters Charity. A really important charity to firefighters and their families\, giving support\, care and advice when we need it most.\n\n10am until 4pm\, just donate to have your car washed!\n\nSee you there!
URL:https://www.hantsfire.gov.uk/event/lyndhurst-fire-station-car-wash/
LOCATION:Lyndhurst FIre Station\, Southampton Road\, Lyndhurst\, Hampshire\, SO43 7BQ\, United Kingdom
ATTACH;FMTTYPE=image/jpeg:https://www.hantsfire.gov.uk/wp-content/uploads/2023/07/Car-Wash.jpg
END:VEVENT
BEGIN:VEVENT
DTSTART;TZID=Europe/London:20240323T100000
DTEND;TZID=Europe/London:20240323T140000
DTSTAMP:20260423T202021
CREATED:20240312T152423Z
LAST-MODIFIED:20240312T152423Z
UID:19841-1711188000-1711202400@www.hantsfire.gov.uk
SUMMARY:New Milton Fire Station car wash
DESCRIPTION:Come along and have your car washed by your local firefighters!\n\nHelp us raise money for The Firefighters Charity. A really important charity to firefighters and their families\, giving support\, care and advice when we need it most.\n\n10am until 2pm\, just donate to have your car washed!\n\nSee you there!\n\n\n​
URL:https://www.hantsfire.gov.uk/event/new-milton-fire-station-car-wash/
LOCATION:New Milton Fire Station
ATTACH;FMTTYPE=image/jpeg:https://www.hantsfire.gov.uk/wp-content/uploads/2024/03/336804111_759589698807191_5412531038385621137_n.jpg
END:VEVENT
BEGIN:VEVENT
DTSTART;TZID=Europe/London:20240316T100000
DTEND;TZID=Europe/London:20240316T160000
DTSTAMP:20260423T202021
CREATED:20240305T151620Z
LAST-MODIFIED:20240305T151620Z
UID:19799-1710583200-1710604800@www.hantsfire.gov.uk
SUMMARY:Cosham Fire Station car wash
DESCRIPTION:Come along and have your car washed by your local firefighters!\n\nHelp us raise money for The Firefighters Charity. A really important charity to firefighters and their families\, giving support\, care and advice when we need it most.\n\n10am until 4pm\, just donate to have your car washed!\n\nSee you there!
URL:https://www.hantsfire.gov.uk/event/cosham-fire-station-car-wash/
LOCATION:Cosham Fire Station\, Northern Road\, Cosham\, Hampshire\, United Kingdom
ATTACH;FMTTYPE=image/jpeg:https://www.hantsfire.gov.uk/wp-content/uploads/2023/07/Car-Wash.jpg
END:VEVENT
BEGIN:VEVENT
DTSTART;TZID=Europe/London:20231219T180000
DTEND;TZID=Europe/London:20231219T210000
DTSTAMP:20260423T202021
CREATED:20231128T115001Z
LAST-MODIFIED:20231129T111623Z
UID:19419-1703008800-1703019600@www.hantsfire.gov.uk
SUMMARY:Meet Santa at Overton Fire Station
DESCRIPTION:Overton on-call firefighters will be opening their station doors from 6pm on Tuesday 19th December for youngsters to come along and meet Santa! \nEach child wanting to see Santa will need a ticket which they will need to bring along on the night. \nAll tickets are free and can be collected from CAFE PUEBLO in Overton. \n 
URL:https://www.hantsfire.gov.uk/event/meet-santa-at-overton-fire-station/
LOCATION:Overton Fire Station\, Station Road\, Overton\, RG25 3PD
END:VEVENT
BEGIN:VEVENT
DTSTART;TZID=Europe/London:20231217T150000
DTEND;TZID=Europe/London:20231217T200000
DTSTAMP:20260423T202021
CREATED:20231205T122113Z
LAST-MODIFIED:20231205T122113Z
UID:19462-1702825200-1702843200@www.hantsfire.gov.uk
SUMMARY:Santa's Grotto at Romsey Fire Station
DESCRIPTION:Get ready for a magical afternoon filled with festive fun at Romsey’s Santa’s Grotto event. Romsey Fire station are delighted to host Santa himself\, along with a host of activities including carol singing\, BBQ\, Raffle\, Children’s disco. \nCharity support: The crews are raising funds for the FireFighters Charity and Children’s Cancer at this event
URL:https://www.hantsfire.gov.uk/event/santas-grotto-at-romsey-fire-station/
LOCATION:Hampshire
END:VEVENT
END:VCALENDAR