BEGIN:VCALENDAR
VERSION:2.0
PRODID:-//Hampshire &amp; Isle of Wight Fire &amp; Rescue Service - ECPv6.15.16//NONSGML v1.0//EN
CALSCALE:GREGORIAN
METHOD:PUBLISH
X-WR-CALNAME:Hampshire &amp; Isle of Wight Fire &amp; Rescue Service
X-ORIGINAL-URL:https://www.hantsfire.gov.uk
X-WR-CALDESC:Events for Hampshire &amp; Isle of Wight Fire &amp; Rescue Service
REFRESH-INTERVAL;VALUE=DURATION:PT1H
X-Robots-Tag:noindex
X-PUBLISHED-TTL:PT1H
BEGIN:VTIMEZONE
TZID:Europe/London
BEGIN:DAYLIGHT
TZOFFSETFROM:+0000
TZOFFSETTO:+0100
TZNAME:BST
DTSTART:20200329T010000
END:DAYLIGHT
BEGIN:STANDARD
TZOFFSETFROM:+0100
TZOFFSETTO:+0000
TZNAME:GMT
DTSTART:20201025T010000
END:STANDARD
BEGIN:DAYLIGHT
TZOFFSETFROM:+0000
TZOFFSETTO:+0100
TZNAME:BST
DTSTART:20210328T010000
END:DAYLIGHT
BEGIN:STANDARD
TZOFFSETFROM:+0100
TZOFFSETTO:+0000
TZNAME:GMT
DTSTART:20211031T010000
END:STANDARD
BEGIN:DAYLIGHT
TZOFFSETFROM:+0000
TZOFFSETTO:+0100
TZNAME:BST
DTSTART:20220327T010000
END:DAYLIGHT
BEGIN:STANDARD
TZOFFSETFROM:+0100
TZOFFSETTO:+0000
TZNAME:GMT
DTSTART:20221030T010000
END:STANDARD
END:VTIMEZONE
BEGIN:VEVENT
DTSTART;TZID=Europe/London:20211016T100000
DTEND;TZID=Europe/London:20211016T130000
DTSTAMP:20260424T085941
CREATED:20210902T142605Z
LAST-MODIFIED:20210907T153914Z
UID:14257-1634378400-1634389200@www.hantsfire.gov.uk
SUMMARY:Recruitment Open Day - Southsea (Morning)
DESCRIPTION:Come along to one of our recruitment open days and find out what it takes to become a wholetime firefighter. \nYou’ll get the opportunity to ask serving firefighters for answers to your burning questions – and discover what life as part of Hampshire and Isle of Wight Fire and Rescue Service is really like. \nAs we get ready to open our next recruitment window\, get the knowledge and confidence you need to take the first steps toward achieving your dream job. \nWe will also be offering advice and information on the recruitment process in a safe and informal setting to support individuals thinking of joining our team.
URL:https://www.hantsfire.gov.uk/event/recruitment-open-day-southsea/
LOCATION:Southsea Fire Station\, Somers Road\, Southsea\, Hampshire\, PO5 4LU\, United Kingdom
CATEGORIES:Open Day,Recruitment
END:VEVENT
BEGIN:VEVENT
DTSTART;TZID=Europe/London:20211009T100000
DTEND;TZID=Europe/London:20211009T130000
DTSTAMP:20260424T085941
CREATED:20210902T141159Z
LAST-MODIFIED:20210902T141159Z
UID:14255-1633773600-1633784400@www.hantsfire.gov.uk
SUMMARY:Recruitment Open Day - Basingstoke
DESCRIPTION:Come along to one of our recruitment open days and find out what it takes to become a wholetime firefighter. \nYou’ll get the opportunity to ask serving firefighters for answers to your burning questions – and discover what life as part of Hampshire and Isle of Wight Fire and Rescue Service is really like. \nAs we get ready to open our next recruitment window\, get the knowledge and confidence you need to take the first steps toward achieving your dream job. \nWe will also be offering advice and information on the recruitment process in a safe and informal setting to support individuals thinking of joining our team.
URL:https://www.hantsfire.gov.uk/event/recruitment-open-day-basingstoke/
LOCATION:Basingstoke Fire Station\, West Ham Close\, Basingstoke\, Hampshire\, RG22 6PH\, United Kingdom
CATEGORIES:Open Day,Recruitment
END:VEVENT
BEGIN:VEVENT
DTSTART;TZID=Europe/London:20211009T100000
DTEND;TZID=Europe/London:20211009T130000
DTSTAMP:20260424T085941
CREATED:20210902T101240Z
LAST-MODIFIED:20210902T103248Z
UID:14250-1633773600-1633784400@www.hantsfire.gov.uk
SUMMARY:Recruitment Open Day - Newport
DESCRIPTION:Come along to one of our recruitment open days and find out what it takes to become a wholetime firefighter. \nYou’ll get the opportunity to ask serving firefighters for answers to your burning questions – and discover what life as part of Hampshire and Isle of Wight Fire and Rescue Service is really like. \nAs we get ready to open our next recruitment window\, get the knowledge and confidence you need to take the first steps toward achieving your dream job. \nWe will also be offering advice and information on the recruitment process in a safe and informal setting to support individuals thinking of joining our team.
URL:https://www.hantsfire.gov.uk/event/recruitment-open-day-newport/
LOCATION:Newport Fire Station\, South Street\, Newport\, Isle of Wight\, PO30 1JQ\, United Kingdom
CATEGORIES:Open Day,Recruitment
END:VEVENT
BEGIN:VEVENT
DTSTART;TZID=Europe/London:20210925T100000
DTEND;TZID=Europe/London:20210925T130000
DTSTAMP:20260424T085941
CREATED:20210902T100812Z
LAST-MODIFIED:20210902T103215Z
UID:14247-1632564000-1632574800@www.hantsfire.gov.uk
SUMMARY:Recruitment Open Day - St Mary's
DESCRIPTION:Come along to one of our recruitment open days and find out what it takes to become a wholetime firefighter. \nYou’ll get the opportunity to ask serving firefighters for answers to your burning questions – and discover what life as part of Hampshire and Isle of Wight Fire and Rescue Service is really like. \nAs we get ready to open our next recruitment window\, get the knowledge and confidence you need to take the first steps toward achieving your dream job. \nWe will also be offering advice and information on the recruitment process in a safe and informal setting to support individuals thinking of joining our team.
URL:https://www.hantsfire.gov.uk/event/recruitment-open-day-st-marys/
LOCATION:St Mary’s Fire Station\, St Mary's Road\, Southampton\, Hampshire\, SO14 0BJ\, United Kingdom
CATEGORIES:Open Day,Recruitment
END:VEVENT
BEGIN:VEVENT
DTSTART;TZID=Europe/London:20210919T140000
DTEND;TZID=Europe/London:20210919T170000
DTSTAMP:20260424T085941
CREATED:20210902T100025Z
LAST-MODIFIED:20210902T103148Z
UID:14243-1632060000-1632070800@www.hantsfire.gov.uk
SUMMARY:Recruitment Open Day - Service Headquarters (Afternoon)
DESCRIPTION:Come along to one of our recruitment open days and find out what it takes to become a wholetime firefighter. \nYou’ll get the opportunity to ask serving firefighters for answers to your burning questions – and discover what life as part of Hampshire and Isle of Wight Fire and Rescue Service is really like. \nAs we get ready to open our next recruitment window\, get the knowledge and confidence you need to take the first steps toward achieving your dream job. \nWe will also be offering advice and information on the recruitment process in a safe and informal setting to support individuals thinking of joining our team.
URL:https://www.hantsfire.gov.uk/event/recruitment-open-day-service-headquarters-afternoon/
LOCATION:Service Headquarters (SHQ)\, Leigh Road\, Eastleigh\, Hampshire\, SO50 9SJ\, United Kingdom
CATEGORIES:Open Day,Recruitment
END:VEVENT
BEGIN:VEVENT
DTSTART;TZID=Europe/London:20210919T100000
DTEND;TZID=Europe/London:20210919T130000
DTSTAMP:20260424T085941
CREATED:20210902T100430Z
LAST-MODIFIED:20210902T103123Z
UID:14245-1632045600-1632056400@www.hantsfire.gov.uk
SUMMARY:Recruitment Open Day - Andover
DESCRIPTION:Come along to one of our recruitment open days and find out what it takes to become a wholetime firefighter. \nYou’ll get the opportunity to ask serving firefighters for answers to your burning questions – and discover what life as part of Hampshire and Isle of Wight Fire and Rescue Service is really like. \nAs we get ready to open our next recruitment window\, get the knowledge and confidence you need to take the first steps toward achieving your dream job. \nWe will also be offering advice and information on the recruitment process in a safe and informal setting to support individuals thinking of joining our team.
URL:https://www.hantsfire.gov.uk/event/recruitment-open-day-andover/
LOCATION:Andover Fire Station\, London Street\, Andover\, Hampshire\, SP10 2PF\, United Kingdom
CATEGORIES:Open Day,Recruitment
END:VEVENT
BEGIN:VEVENT
DTSTART;TZID=Europe/London:20210919T100000
DTEND;TZID=Europe/London:20210919T130000
DTSTAMP:20260424T085941
CREATED:20210902T095807Z
LAST-MODIFIED:20210902T103331Z
UID:14241-1632045600-1632056400@www.hantsfire.gov.uk
SUMMARY:Recruitment Open Day - Service Headquarters (Morning)
DESCRIPTION:Come along to one of our recruitment open days and find out what it takes to become a wholetime firefighter. \nYou’ll get the opportunity to ask serving firefighters for answers to your burning questions – and discover what life as part of Hampshire and Isle of Wight Fire and Rescue Service is really like. \nAs we get ready to open our next recruitment window\, get the knowledge and confidence you need to take the first steps toward achieving your dream job. \nWe will also be offering advice and information on the recruitment process in a safe and informal setting to support individuals thinking of joining our team.
URL:https://www.hantsfire.gov.uk/event/recruitment-open-day-service-headquarters-morning/
LOCATION:Service Headquarters (SHQ)\, Leigh Road\, Eastleigh\, Hampshire\, SO50 9SJ\, United Kingdom
CATEGORIES:Open Day,Recruitment
END:VEVENT
BEGIN:VEVENT
DTSTART;TZID=Europe/London:20210918T100000
DTEND;TZID=Europe/London:20210918T160000
DTSTAMP:20260424T085941
CREATED:20210914T143740Z
LAST-MODIFIED:20210915T115701Z
UID:14347-1631959200-1631980800@www.hantsfire.gov.uk
SUMMARY:Winchester Fire Station Open Day
DESCRIPTION:Firefighters at Winchester Fire Station are opening their doors this September for a jam-packed day of fun and fire safety. The community open day will take place on Saturday 18 September and provide local residents with the chance to visit their fire station to gain insight into the various activities firefighters undertake.\n\n\nThe festivities will take place between 10:00-16:00. There will be entertainment for children as well as fire and rescue demonstrations\, showcasing the latest equipment used by firefighters to help keep Winchester and the surrounding area safe. They will be joined by colleagues from South Central Ambulance Service\, Hampshire Constabulary and Citizens Advice.\n\nAnd if that wasn’t enough you can meet our fire investigation dogs (possibly the most loved members of staff) who are specially trained to identify substances that can start fires.\nHampshire and Isle of Wight Fire and Rescue Service open days are fun for all the family but also provide an opportunity to learn more about a host of safety matters from home to road safety.\n\n\nYour local crew looks forward to seeing you there!
URL:https://www.hantsfire.gov.uk/event/winchester-fire-station-open-day/
LOCATION:Winchester Fire Station\, Easton Lane\, Winnall\, Winchester\, Hampshire\, SO23 0LF\, United Kingdom
CATEGORIES:Open Day,Station
ATTACH;FMTTYPE=image/jpeg:https://www.hantsfire.gov.uk/wp-content/uploads/2021/09/64861160_10156940098350932_6331878759016169472_n.jpg
END:VEVENT
BEGIN:VEVENT
DTSTART;TZID=Europe/London:20210918T100000
DTEND;TZID=Europe/London:20210918T130000
DTSTAMP:20260424T085941
CREATED:20210902T092555Z
LAST-MODIFIED:20210902T103010Z
UID:14209-1631959200-1631970000@www.hantsfire.gov.uk
SUMMARY:Recruitment Open Day - Eastleigh
DESCRIPTION:Come along to one of our recruitment open days and find out what it takes to become a wholetime firefighter. \nYou’ll get the opportunity to ask serving firefighters for answers to your burning questions – and discover what life as part of Hampshire and Isle of Wight Fire and Rescue Service is really like. \nAs we get ready to open our next recruitment window\, get the knowledge and confidence you need to take the first steps toward achieving your dream job. \nWe will also be offering advice and information on the recruitment process in a safe and informal setting to support individuals thinking of joining our team.
URL:https://www.hantsfire.gov.uk/event/recruitment-open-day-eastleigh/
LOCATION:Eastleigh Fire Station\, Steele Close\, Eastleigh\, Hampshire\, SO53 3AA\, United Kingdom
CATEGORIES:Open Day,Recruitment
END:VEVENT
BEGIN:VEVENT
DTSTART;TZID=Europe/London:20210914T103000
DTEND;TZID=Europe/London:20210914T133000
DTSTAMP:20260424T085941
CREATED:20210915T115511Z
LAST-MODIFIED:20210915T115511Z
UID:14357-1631615400-1631626200@www.hantsfire.gov.uk
SUMMARY:Hampshire & Isle of Wight Fire and Rescue Authority meeting
DESCRIPTION:Recording of the Authority meeting broadcast
URL:https://www.hantsfire.gov.uk/event/hampshire-isle-of-wight-fire-and-rescue-authority-meeting-2/
LOCATION:Available online
CATEGORIES:Authority Meeting,Fire Authority
ATTACH;FMTTYPE=image/jpeg:https://www.hantsfire.gov.uk/wp-content/uploads/2021/06/02_HIWFRS_Coa-e1623685497720.jpg
END:VEVENT
BEGIN:VEVENT
DTSTART;TZID=Europe/London:20210727T103000
DTEND;TZID=Europe/London:20210727T133000
DTSTAMP:20260424T085941
CREATED:20210614T153820Z
LAST-MODIFIED:20210915T115238Z
UID:13649-1627381800-1627392600@www.hantsfire.gov.uk
SUMMARY:Hampshire & Isle of Wight Fire and Rescue Authority meeting
DESCRIPTION:Recording from the Authority meeting broadcast
URL:https://www.hantsfire.gov.uk/event/hampshire-isle-of-wight-fire-and-rescue-authority-meeting/
LOCATION:Available online
CATEGORIES:Authority Meeting,Fire Authority
ATTACH;FMTTYPE=image/jpeg:https://www.hantsfire.gov.uk/wp-content/uploads/2021/06/02_HIWFRS_Coa-e1623685497720.jpg
END:VEVENT
BEGIN:VEVENT
DTSTART;VALUE=DATE:20210605
DTEND;VALUE=DATE:20210607
DTSTAMP:20260424T085941
CREATED:20210215T132043Z
LAST-MODIFIED:20210915T115620Z
UID:9517-1622851200-1623023999@www.hantsfire.gov.uk
SUMMARY:Meet our Arson Task Force at Dogstival
DESCRIPTION:Dogstival\, a festival for dogs and dog-lovers with the bark factor. The coolest dog show in town!\nThe ultimate weekend out for you and your dog in the heart of the New Forest\nIt’s time TO GET YOUR PAWS ON TICKETS and come meet our world champion Arson Task Force team and their four legged colleagues Harvey and Louis\, who are trained to detect the presence of ignitable liquids.\nWhere to Find us?\nDogstival’s Dog House Stage\, 5th & 6th June 2021 – Burley Park\, New Forest. \nDoors Open 9.30am – 5.30pm.
URL:https://www.hantsfire.gov.uk/event/meet-our-arson-task-force-at-dogstival/
LOCATION:Dogstival\, Burley Park\, Burley\, NEW FOREST\, BH24 4AB\, United Kingdom
ATTACH;FMTTYPE=image/jpeg:https://www.hantsfire.gov.uk/wp-content/uploads/2021/02/Hampshire-Fire-Rescue-dogs_400_275_80_s_c1_1x.jpg
END:VEVENT
END:VCALENDAR