BEGIN:VCALENDAR
VERSION:2.0
PRODID:-//Hampshire &amp; Isle of Wight Fire &amp; Rescue Service - ECPv6.15.16//NONSGML v1.0//EN
CALSCALE:GREGORIAN
METHOD:PUBLISH
X-ORIGINAL-URL:https://www.hantsfire.gov.uk
X-WR-CALDESC:Events for Hampshire &amp; Isle of Wight Fire &amp; Rescue Service
REFRESH-INTERVAL;VALUE=DURATION:PT1H
X-Robots-Tag:noindex
X-PUBLISHED-TTL:PT1H
BEGIN:VTIMEZONE
TZID:Europe/London
BEGIN:DAYLIGHT
TZOFFSETFROM:+0000
TZOFFSETTO:+0100
TZNAME:BST
DTSTART:20250330T010000
END:DAYLIGHT
BEGIN:STANDARD
TZOFFSETFROM:+0100
TZOFFSETTO:+0000
TZNAME:GMT
DTSTART:20251026T010000
END:STANDARD
BEGIN:DAYLIGHT
TZOFFSETFROM:+0000
TZOFFSETTO:+0100
TZNAME:BST
DTSTART:20260329T010000
END:DAYLIGHT
BEGIN:STANDARD
TZOFFSETFROM:+0100
TZOFFSETTO:+0000
TZNAME:GMT
DTSTART:20261025T010000
END:STANDARD
BEGIN:DAYLIGHT
TZOFFSETFROM:+0000
TZOFFSETTO:+0100
TZNAME:BST
DTSTART:20270328T010000
END:DAYLIGHT
BEGIN:STANDARD
TZOFFSETFROM:+0100
TZOFFSETTO:+0000
TZNAME:GMT
DTSTART:20271031T010000
END:STANDARD
END:VTIMEZONE
BEGIN:VEVENT
DTSTART;TZID=Europe/London:20260328T100000
DTEND;TZID=Europe/London:20260328T140000
DTSTAMP:20260423T122401
CREATED:20260310T110847Z
LAST-MODIFIED:20260310T112425Z
UID:27997-1774692000-1774706400@www.hantsfire.gov.uk
SUMMARY:Hardley Fire Station charity car wash
DESCRIPTION:On Saturday 28th March 2026\, Hardley Fire Station will be hosting a charity car wash to raise funds for the Fire Fighters charity.
URL:https://www.hantsfire.gov.uk/event/hardley-fire-station-charity-car-wash-3/
LOCATION:Hardley Fire Station\, Falconer Court\, Southampton\, Hampshire\, SO45 2PY\, United Kingdom
END:VEVENT
BEGIN:VEVENT
DTSTART;TZID=Europe/London:20260328T100000
DTEND;TZID=Europe/London:20260328T160000
DTSTAMP:20260423T122401
CREATED:20260223T084257Z
LAST-MODIFIED:20260226T093954Z
UID:27907-1774692000-1774713600@www.hantsfire.gov.uk
SUMMARY:Eastleigh Fire Station charity car wash
DESCRIPTION:On Saturday 28th March 2026\, Eastleigh Fire Station will be hosting a charity car wash to raise funds for the Fire Fighters charity.
URL:https://www.hantsfire.gov.uk/event/eastleigh-fire-station-charity-car-wash-2/
LOCATION:Eastleigh Fire Station\, Steele Close\, Eastleigh\, Hampshire\, SO53 3AA\, United Kingdom
END:VEVENT
BEGIN:VEVENT
DTSTART;TZID=Europe/London:20260328T110000
DTEND;TZID=Europe/London:20260328T140000
DTSTAMP:20260423T122401
CREATED:20260304T152406Z
LAST-MODIFIED:20260310T113338Z
UID:27965-1774695600-1774706400@www.hantsfire.gov.uk
SUMMARY:Winchester Fire Station car wash
DESCRIPTION:On Saturday 28th March 2026\, Winchester Fire Station will be hosting a charity car wash to raise funds for the Fire Fighters charity.
URL:https://www.hantsfire.gov.uk/event/winchester-fire-station-car-wash-2/
LOCATION:Winchester Fire Station\, Easton Lane\, Winnall\, Winchester\, Hampshire\, SO23 0LF\, United Kingdom
ATTACH;FMTTYPE=image/jpeg:https://www.hantsfire.gov.uk/wp-content/uploads/2023/07/Car-Wash.jpg
END:VEVENT
BEGIN:VEVENT
DTSTART;TZID=Europe/London:20260404T100000
DTEND;TZID=Europe/London:20260404T160000
DTSTAMP:20260423T122401
CREATED:20260205T140129Z
LAST-MODIFIED:20260310T111717Z
UID:27744-1775296800-1775318400@www.hantsfire.gov.uk
SUMMARY:Ryde Fire Station Open Day
DESCRIPTION:Ryde Fire Station will be hosting a community open day on Saturday 4 April\, and members of the public are warmly invited to attend. \nVisitors will have the opportunity to meet their local fire crew and engage with a range of emergency service partners\, including the Police\, Ambulance Service\, and Inland Search and Rescue teams. \nWhat to expect\n\nLive fire service demonstrations\nTours of fire engines\, vehicles\, and equipment\nCPR and basic life-saving training sessions\nCatering available on site\nActivities suitable for the whole family\n\nThis event offers a great opportunity to learn more about the work of the emergency services and how they help keep the community safe. \nImportant information\nPlease note that no public parking will be available on site during the event. Visitors are encouraged to plan their travel arrangements in advance. \nWe look forward to welcoming you to Ryde Fire Station.
URL:https://www.hantsfire.gov.uk/event/ryde-fire-station-open-day/
LOCATION:Ryde Community Fire Station\, 58 Great Preston Road\, Ryde\, Isle of Wight\, PO33 1DD\, United Kingdom
ATTACH;FMTTYPE=image/jpeg:https://www.hantsfire.gov.uk/wp-content/uploads/2025/01/Ryde-blue-and-red-watch-1.jpg
END:VEVENT
BEGIN:VEVENT
DTSTART;TZID=Europe/London:20260404T100000
DTEND;TZID=Europe/London:20260404T170000
DTSTAMP:20260423T122401
CREATED:20260304T152603Z
LAST-MODIFIED:20260310T110541Z
UID:27968-1775296800-1775322000@www.hantsfire.gov.uk
SUMMARY:Lyndhurst Fire Station charity car wash
DESCRIPTION:Lyndhurst Fire Station is back at it again! We’re opening the bay doors for our annual Charity Car Wash\, and we want to see your dirty cars\, vans\, and bikes lining the street. \nDonations: Cash & Card/Contactless both happily accepted! \nWe aren’t just washing cars; we’re celebrating a massive community achievement. Thanks to your incredible generosity\, we have raised a staggering £5\,119 over the last 3 years alone! Every penny of that goes directly to The Fire Fighters Charity\, providing a vital lifeline for fire service personnel and their families across the UK. \nThe Fire Fighters Charity offers world-class support that goes far beyond the fire station doors: \n\nPhysical Rehabilitation: Specialist centres to help crews recover from injury and return to the frontline\nMental Health Support: A 24/7 crisis line and psychological services to help our teams process the daily challenges of the job.\nFamily Wellbeing: Crucial support for our partners and children during times of illness\, disability\, or bereavement.\n\nRetiree Care: Ensuring those who served us for decades are never forgotten or left without support. \nHelp us smash our next target! Come down\, meet the crew\, see the trucks\, and drive away with a sparkling car. \nSee you there!
URL:https://www.hantsfire.gov.uk/event/lyndhurst-fire-station-charity-car-wash-3/
LOCATION:Lyndhurst FIre Station\, Southampton Road\, Lyndhurst\, Hampshire\, SO43 7BQ\, United Kingdom
ATTACH;FMTTYPE=image/jpeg:https://www.hantsfire.gov.uk/wp-content/uploads/2023/07/Car-Wash.jpg
END:VEVENT
BEGIN:VEVENT
DTSTART;TZID=Europe/London:20260411T100000
DTEND;TZID=Europe/London:20260411T150000
DTSTAMP:20260423T122401
CREATED:20260123T091814Z
LAST-MODIFIED:20260409T103332Z
UID:27672-1775901600-1775919600@www.hantsfire.gov.uk
SUMMARY:Hayling Island Fire Station Open Day
DESCRIPTION:Hayling Island Fire Station is hosting its open day on Saturday 11th April! \nCome along between 10am and 3pm to meet the emergency service teams and watch our exciting firefighter demonstrations. \nHave a go at our football shootout\, find out about the Hayling Dragons cycling challenge\, meet our emergency services partners in coastguard and police\, and tuck into the barbecue or enjoy our cake selection. \n 
URL:https://www.hantsfire.gov.uk/event/hayling-island-fire-station-open-day-2/
LOCATION:Hayling Island Fire Station\, Elm Grove\, PO11 9ED
ATTACH;FMTTYPE=image/jpeg:https://www.hantsfire.gov.uk/wp-content/uploads/2026/01/Open-Day-Hayling-Island-Facebook.jpg
END:VEVENT
BEGIN:VEVENT
DTSTART;TZID=Europe/London:20260411T100000
DTEND;TZID=Europe/London:20260411T153000
DTSTAMP:20260423T122401
CREATED:20260330T114906Z
LAST-MODIFIED:20260330T114948Z
UID:28123-1775901600-1775921400@www.hantsfire.gov.uk
SUMMARY:Rushmoor Fire Station Charity Car Wash
DESCRIPTION:0n Saturday 11th April\, Rushmoor Fire Station will be hosting a charity car wash to raise funds for the Fire Fighters charity.​
URL:https://www.hantsfire.gov.uk/event/rushmoor-fire-station-charity-car-wash-2/
ATTACH;FMTTYPE=image/jpeg:https://www.hantsfire.gov.uk/wp-content/uploads/2026/03/Car-Wash-Rushmoor-Facebook.jpg
END:VEVENT
BEGIN:VEVENT
DTSTART;TZID=Europe/London:20260418T100000
DTEND;TZID=Europe/London:20260418T140000
DTSTAMP:20260423T122401
CREATED:20260402T103709Z
LAST-MODIFIED:20260402T103709Z
UID:28139-1776506400-1776520800@www.hantsfire.gov.uk
SUMMARY:Bordon Fire Station charity car wash
DESCRIPTION:On Saturday 18th April\, from 10am-2pm\, Bordon Fire Station will be hosting a charity car wash to raise funds for the Fire Fighters charity.​
URL:https://www.hantsfire.gov.uk/event/bordon-fire-station-charity-car-wash/
LOCATION:Bordon Fire Station\, Conde Way\, Bordon\, GU35 0XF
ATTACH;FMTTYPE=image/jpeg:https://www.hantsfire.gov.uk/wp-content/uploads/2026/04/Car-Wash-Bordon-Facebook.jpg
END:VEVENT
BEGIN:VEVENT
DTSTART;TZID=Europe/London:20260418T110000
DTEND;TZID=Europe/London:20260418T150000
DTSTAMP:20260423T122401
CREATED:20260310T111129Z
LAST-MODIFIED:20260409T104102Z
UID:27999-1776510000-1776524400@www.hantsfire.gov.uk
SUMMARY:Lymington Fire Station charity car wash
DESCRIPTION:On Saturday 18th April\, Lymington Fire Station will be hosting a charity car wash to raise funds for the Fire Fighters charity.
URL:https://www.hantsfire.gov.uk/event/lymington-fire-station-charity-car-wash/
LOCATION:Lymington Fire Station
ATTACH;FMTTYPE=image/jpeg:https://www.hantsfire.gov.uk/wp-content/uploads/2026/03/Car-Wash-Lymington-Facebook.jpg
END:VEVENT
END:VCALENDAR